BEGIN:VCALENDAR
VERSION:2.0
PRODID:-//Girls Initiating Real Living Standards - ECPv6.15.20//NONSGML v1.0//EN
CALSCALE:GREGORIAN
METHOD:PUBLISH
X-ORIGINAL-URL:https://www.girls4real.org
X-WR-CALDESC:Events for Girls Initiating Real Living Standards
REFRESH-INTERVAL;VALUE=DURATION:PT1H
X-Robots-Tag:noindex
X-PUBLISHED-TTL:PT1H
BEGIN:VTIMEZONE
TZID:America/Los_Angeles
BEGIN:DAYLIGHT
TZOFFSETFROM:-0800
TZOFFSETTO:-0700
TZNAME:PDT
DTSTART:20230312T100000
END:DAYLIGHT
BEGIN:STANDARD
TZOFFSETFROM:-0700
TZOFFSETTO:-0800
TZNAME:PST
DTSTART:20231105T090000
END:STANDARD
BEGIN:DAYLIGHT
TZOFFSETFROM:-0800
TZOFFSETTO:-0700
TZNAME:PDT
DTSTART:20240310T100000
END:DAYLIGHT
BEGIN:STANDARD
TZOFFSETFROM:-0700
TZOFFSETTO:-0800
TZNAME:PST
DTSTART:20241103T090000
END:STANDARD
BEGIN:DAYLIGHT
TZOFFSETFROM:-0800
TZOFFSETTO:-0700
TZNAME:PDT
DTSTART:20250309T100000
END:DAYLIGHT
BEGIN:STANDARD
TZOFFSETFROM:-0700
TZOFFSETTO:-0800
TZNAME:PST
DTSTART:20251102T090000
END:STANDARD
END:VTIMEZONE
BEGIN:VEVENT
DTSTART;TZID=America/Los_Angeles:20240813T160000
DTEND;TZID=America/Los_Angeles:20241008T160000
DTSTAMP:20260420T073413
CREATED:20240805T180518Z
LAST-MODIFIED:20240805T180921Z
UID:307-1723564800-1728403200@www.girls4real.org
SUMMARY:G.I.R.L.S. Program
DESCRIPTION:Equipping girls with the skills necessary to successfully navigate their world\, shift their view of themselves and enlarge their view of the possible
URL:https://www.girls4real.org/event/g-i-r-l-s-program/
LOCATION:Loma Alta Park  3330 N. Lincoln Av\, 3330 N. Lincoln Ave.\, Altadena\, California\, 91001
ATTACH;FMTTYPE=image/jpeg:https://www.girls4real.org/wp-content/uploads/2024/08/LOMA-ALTA-GIRLS-PROGRAM-FLYER-W-QR-CODES-1-jpg.webp
END:VEVENT
END:VCALENDAR